BEGIN:VCALENDAR
VERSION:2.0
PRODID:-//https://lzz.sk///NONSGML kigkonsult.se iCalcreator 2.10.15//
METHOD:PUBLISH
BEGIN:VEVENT
UID:20260425T122819CEST-1240CuW3T8@https://lzz.sk/
DTSTAMP:20260425T102819Z
DESCRIPTION:Vážené členky\, vážení členovia občianskeho združenia Lekárnici
  za život – Slovensko.  \nZasadanie snemu sa uskutoční po skončení konfere
 ncie Aj lekárnik má dušu. Vítaní sú i hostia.\nRegistrácia je otvorená do 
 6. 10. 2019 vrátane.\nV zmysle bodu 16.5.2 stanov občianskeho združenia si
  Vás dovoľujem pozvať na prvé zasadanie snemu združenia.\nProgram rokovani
 a snemu:\n\nvoľba nového predsedu snemu\nprijatie čestných členov občiansk
 eho združenia\nvoľba nového predsedu správneho kolégia\, predsedu etického
  grémia a&nbsp\;predsedu odborného grémia\nzhrnutie doterajšieho pôsobenia
  občianskeho združenia a&nbsp\;budúce vízie\noznámenie o&nbsp\;stave finan
 cií a&nbsp\;spôsobe účtovníctva občianskeho združenia\npredstavenie odboro
 vého združenia Prvé lekárnické odbory\n\nÚčastníci zasadania snemu budú ma
 ť:\n\nzabezpečený pitný režim a malé občerstvenie\n\nS&nbsp\;úctou a&nbsp\
 ;pozdravom\,\n&nbsp\;Mgr. Veronika Kormanová\npredsedkyňa správneho kolégi
 a LzŽ-SVK https://lzz.sk/podujatia/udalost/2-prve-zasadanie-snemu-o-z-lzz
DTSTART:20191012T153000Z
DTEND:20191012T170000Z
LOCATION:Teologická fakulta v Košiciach Katolíckej univerzity v Ružomberku 
 (Hlavná 79/89\, 040 01 Košice\, Slovensko)
SUMMARY:Prvé zasadanie snemu o. z. LzZ
URL:https://lzz.sk/podujatia/udalost/2-prve-zasadanie-snemu-o-z-lzz
END:VEVENT
END:VCALENDAR
