BEGIN:VCALENDAR
VERSION:2.0
PRODID:-//https://lzz.sk///NONSGML kigkonsult.se iCalcreator 2.10.15//
METHOD:PUBLISH
BEGIN:VEVENT
UID:20260425T122304CEST-5368c59Zla@https://lzz.sk/
DTSTAMP:20260425T102304Z
DESCRIPTION:Úrad pre apoštolát ochrany života v košickej arcidiecéze pozýva
  lekárnikov\, laborantov a študentov farmácie na bioetickú konferenciu.\nC
 ieľ: katolíckym farmaceutickým pracovníkom ponúknuť duchovno – formačné st
 retnutie\, ktoré posilní ich špecifickú identitu\, zvýrazní ich dôležitosť
  a úlohy\, vytvorí priestor na dialóg a prebudí v nich záujem o ďalší prof
 esijný rast v duchu Evanjelia.Miesto: Košice\, Hlavná 89 (budova Teologick
 ej fakulty)Parkovanie: nevieme garantovať. Treba využiť parkoviská v meste
 .Strava: obed v jedálni Teol. fakulty\; ranné a popoludňajšie občerstvenie
  bude v prednáškovej miestnosti\; teplé a studené nápoje budú neustále k d
 ispozícii.Poplatok: 10€\; účastníci zaplatia na mieste (členom o. z. Lekár
 nici za život - Slovensko na stupni študentov hradí vstupné občianske zdru
 ženie)Zrušenie registrácie: Prosíme Vás\, aby ste prípadné zrušenie regist
 rácie urobili do štvrtka večera (10.10.). V piatok\, 11.10. totiž potrebuj
 eme záväzne nahlásiť počet obedov.\nProgram:\n\n08:30 Príchod účastníkov\,
  občerstvenie\n09:00 Privítanie\n09:05 ThDr. Martin Koleják\, PhD.: Umelé 
 oplodnenie ako bioetický fenomén + diskusia\n10:30 Prestávka\n11:00 Ing. Ľ
 udmila Dydňanská\, FCP: Naprotechnológia - nevyrábať deti\, ale liečiť nep
 lodnosť + diskusia\n12:30 Obed\, prestávka (čas na oddych\, rozhovory...)
 \n13:45 Mgr. Veronika Kormanová: Prečo potrebujeme kresťanské farmaceutick
 é odbory.\n14:00 JUDr. Ivan Humeník\, PhD.: Farmaceut - právne zakotvenia 
 jeho výhrady vo svedomí. Exemplárne judikatúry týkajúce sa jeho výhrady vo
  svedomí + diskusia\n15:30 Občerstvenie\, záver\n15:35&nbsp\;Zasadanie sne
 mu o. z. Lekárnici za život - Slovensko\n\nHostia:\nProsím\, registrujte s
 voju účasť na uvedenej e-mailovej adrese alebo na tomto odkaze [GoogleDocs
 ]. Členovia o. z. Lekárnici za život sa registrujú iba prostredníctvom uda
 losti na stránkach https://lzz.sk a následne ich bude združenie registrova
 ť centrálne.\n https://lzz.sk/podujatia/udalost/1-bioeticka-konferencia-aj
 -lekarnik-ma-dusu
DTSTART:20191012T090000Z
DTEND:20191012T153000Z
LOCATION:Teologická fakulta v Košiciach Katolíckej univerzity v Ružomberku 
 (Hlavná 79/89\, 040 01 Košice\, Slovensko)
SUMMARY:Bioetická konferencia: Aj lekárnik má dušu
URL:https://lzz.sk/podujatia/udalost/1-bioeticka-konferencia-aj-lekarnik-ma
 -dusu
END:VEVENT
END:VCALENDAR
